BEGIN:VCALENDAR
VERSION:2.0
PRODID:-//ChamberMaster//Event Calendar 2.0//EN
METHOD:PUBLISH
X-PUBLISHED-TTL:P3D
REFRESH-INTERVAL:P3D
CALSCALE:GREGORIAN
BEGIN:VEVENT
DTSTART:20231108T163000Z
DTEND:20231108T180000Z
X-MICROSOFT-CDO-ALLDAYEVENT:FALSE
SUMMARY:Women's Inspiration Network (WIN)
DESCRIPTION:Introducing the new women's networking group\, WIN! Women's Inspiration Network is our women's networking group that will focus on supporting women in business. We'll have monthly meetings\, group volunteer days and fun outing events such as a Fashion Show\, Golfing\, a Holiday Party and more!\n\n\n\nThis month is a volunteer day! We'll be visiting the Florida Breast Cancer Foundation in the Oviedo Mall.\n\n\n\nPreviously termed Oviedo Businesswomen Network (OBN)\, this group is presented by AdventHealth for Women and was established in 1997. WIN consists of area businesswomen who meet monthly to exchange information\, share contacts\, and provide a support system for professional women within our chamber's service area. Monthly meetings occur on the 2nd Wednesday of the month at 11:30 AM at various locations in Oviedo and Winter Springs.
X-ALT-DESC;FMTTYPE=text/html:<p data-uw-styling-context="true" style="box-sizing: border-box\; margin: 0px 0px 10px\; overflow-wrap: break-word\; color: rgb(0\, 0\, 0)\; font-family: Raleway\, sans-serif\; font-size: 16px\;"><span style="font-size: 14px\;"><span style="font-family: arial\;">Introducing the new women&#39\;s networking group\, WIN! Women&#39\;s Inspiration Network&nbsp\;is our women&#39\;s networking group that will focus on supporting women in business. We&#39\;ll have monthly meetings\, group volunteer days and fun outing events such as a Fashion Show\, Golfing\, a Holiday Party and more!<br />\n<br />\nThis month is a volunteer day! We&#39\;ll be visiting the Florida Breast Cancer Foundation in the Oviedo Mall.</span></span><br />\n<br />\n<span style="font-size: 14px\;"><span style="font-family: arial\;">Previously termed Oviedo Businesswomen Network (OBN)\, this group is presented by AdventHealth for Women and was established in 1997. WIN consists of area businesswomen who meet monthly to exchange information\, share contacts\, and provide a support system for professional women within our chamber&rsquo\;s service area.&nbsp\;</span></span><span style="font-size: 14px\;"><span style="font-family: arial\;">Monthly meetings occur on the 2nd Wednesday of the month at 11:30 AM at various locations in Oviedo and Winter Springs.</span></span></p>\n
LOCATION:Florida Breast Cancer Foundation Located in the Oviedo Mall Near Auntie Anne's 1700 Oviedo Mall Blvd. Oviedo\, FL 32765
UID:e.1204.41507
SEQUENCE:3
DTSTAMP:20260421T233600Z
URL:https://business.owsrcc.org/events/details/women-s-inspiration-network-win-41507
END:VEVENT

END:VCALENDAR
