BEGIN:VCALENDAR
VERSION:2.0
PRODID:-//ChamberMaster//Event Calendar 2.0//EN
METHOD:PUBLISH
X-PUBLISHED-TTL:P3D
REFRESH-INTERVAL:P3D
CALSCALE:GREGORIAN
BEGIN:VEVENT
DTSTART:20250219T210000Z
DTEND:20250220T020000Z
X-MICROSOFT-CDO-ALLDAYEVENT:FALSE
SUMMARY:Wine Down Wednesdays @ Yao's
DESCRIPTION:Join us EACH and EVERY WEDNESDAY at YAO'S for WINE DOWN WEDNESDAYS!!! ??\n\n\n\nUncork and unwind with us:\n\n\n\nHalf-Off Wines\n\n$4 Bubbles\n\n$5 Sangrias\n\n$8 Aperol Spritz\n\n\n\nGreat drinks\, good company\, and the perfect ambiance--because Wednesdays deserve a little luxury! ??\n\n\n15 Alafaya Woods Blvd #107\n\nOviedo\, FL 32765
X-ALT-DESC;FMTTYPE=text/html:Join us EACH and EVERY WEDNESDAY at YAO&#39\;S for WINE DOWN WEDNESDAYS!!!&nbsp\;??<br />\n<br />\nUncork and unwind with us:<br />\n<br />\nHalf-Off Wines<br />\n$4 Bubbles<br />\n$5 Sangrias<br />\n$8 Aperol Spritz<br />\n<br />\nGreat drinks\, good company\, and the perfect ambiance--because Wednesdays deserve a little luxury!&nbsp\;??\n<p><br />\n15 Alafaya Woods Blvd #107</p>\n\n<p>Oviedo\, FL 32765</p>\n
LOCATION:
UID:e.1204.45350
SEQUENCE:3
DTSTAMP:20260421T044216Z
URL:https://business.owsrcc.org/events/details/wine-down-wednesdays-yao-s-02-19-2025-45350
END:VEVENT

END:VCALENDAR
