BEGIN:VCALENDAR
VERSION:2.0
PRODID:-//ChamberMaster//Event Calendar 2.0//EN
METHOD:PUBLISH
X-PUBLISHED-TTL:P3D
REFRESH-INTERVAL:P3D
CALSCALE:GREGORIAN
BEGIN:VEVENT
DTSTART:20250212T163000Z
DTEND:20250212T180000Z
X-MICROSOFT-CDO-ALLDAYEVENT:FALSE
SUMMARY:WIN-Women's Inspiration Network
DESCRIPTION:The Women's Inspiration Network is our women's networking group that will focus on supporting women in business. We'll have monthly meetings\, group volunteer days and fun outing events such as Beach Day\, Golfing\, a Holiday Party and more!\n\nPreviously termed Oviedo Businesswomen Network (OBN)\, this group is presented by AdventHealth and Boltz Legal\, and was established in 1997. WIN consists of area businesswomen who meet monthly.\n\nFebruary welcomes the ladies with an inspirational presentation of How to grow your business by attending the WIN monthly lunches. y Brooke Bolts of Boltz Legal. Enjoy networking\, connections\, and door prizes too!  Lunch will be catered by Slam Dunk Sandwiches.
X-ALT-DESC;FMTTYPE=text/html:<p data-uw-styling-context="true" style="box-sizing: border-box\; margin: 0px 0px 10px\; color: rgb(0\, 0\, 0)\; font-family: Alike\, serif\; font-size: 16px\;">The Women&#39\;s Inspiration Network is our women&#39\;s networking group that will focus on supporting women in business. We&#39\;ll have monthly meetings\, group volunteer days and fun outing events such as Beach Day\, Golfing\, a Holiday Party and more!</p>\n\n<p data-uw-styling-context="true" style="box-sizing: border-box\; margin: 0px 0px 10px\;"><font color="#000000" face="Alike\, serif"><span style="font-size: 16px\;">Previously termed Oviedo Businesswomen Network (OBN)\, this group is presented by AdventHealth and Boltz Legal\, and was established in 1997. WIN consists of area businesswomen who meet monthly.</span></font><br />\n<span style="font-size:18px\;"><span style="color: black\; font-family: &quot\;times new roman&quot\;\;">February welcomes the ladies with an</span><font color="#41291e" face="Georgia\, serif">&nbsp\;</font><span style="color: rgb(0\, 0\, 0)\; font-family: &quot\;times new roman&quot\;\; text-align: center\;">inspirational presentation of&nbsp\;</span><span style="font-family:times new roman\;"><i><span style="color: black\;">How to grow your business by attending the WIN monthly lunches.&nbsp\;</span></i></span><span style="color: black\; font-family: &quot\;times new roman&quot\;\; text-align: center\;">y Brooke Bolts of Boltz Legal.</span></span><span style="font-family:times new roman\;"><span style="font-size:16px\;"><span style="color: rgb(65\, 41\, 30)\;"><o:p><span style="font-size:18px\;">&nbsp\;</span></o:p></span></span></span><span style="font-size:18px\;"><span style="font-family:times new roman\;"><span style="color: black\;">Enjoy networking\, connections\, and door prizes too!</span></span></span><span style="font-family:times new roman\;"><span style="font-size:16px\;"><span style="color: rgb(65\, 41\, 30)\;"><o:p><span style="font-size:18px\;">&nbsp\;</span></o:p></span></span></span><span style="font-size:18px\;"><span style="font-family:times new roman\;"><span style="color: black\;">&nbsp\;Lunch will be catered by Slam Dunk Sandwiches.</span></span></span><span style="font-size:10.5pt\;font-family:&quot\;Georgia&quot\;\,serif\;color:#41291E"><o:p></o:p></span></p>\n
LOCATION:Oviedo Park Pub 888 City Walk Ln Oviedo\, FL 32765
UID:e.1204.45111
SEQUENCE:3
DTSTAMP:20260421T043914Z
URL:https://business.owsrcc.org/events/details/win-women-s-inspiration-network-45111
END:VEVENT

END:VCALENDAR
