BEGIN:VCALENDAR
VERSION:2.0
PRODID:-//ChamberMaster//Event Calendar 2.0//EN
METHOD:PUBLISH
X-PUBLISHED-TTL:P3D
REFRESH-INTERVAL:P3D
CALSCALE:GREGORIAN
BEGIN:VEVENT
DTSTART:20240814T153000Z
DTEND:20240814T170000Z
X-MICROSOFT-CDO-ALLDAYEVENT:FALSE
SUMMARY:WIN-Women's Inspiration Network
DESCRIPTION:Women's Inspiration Network
X-ALT-DESC;FMTTYPE=text/html:Women&#39\;s Inspiration Network&nbsp\;
LOCATION:The Food Factory 888 City Walk Ln Oviedo\, FL 32765
UID:e.1204.44565
SEQUENCE:3
DTSTAMP:20260421T025451Z
URL:https://business.owsrcc.org/events/details/win-women-s-inspiration-network-44565
END:VEVENT

END:VCALENDAR
