BEGIN:VCALENDAR
VERSION:2.0
PRODID:-//ChamberMaster//Event Calendar 2.0//EN
METHOD:PUBLISH
X-PUBLISHED-TTL:P3D
REFRESH-INTERVAL:P3D
CALSCALE:GREGORIAN
BEGIN:VEVENT
DTSTART:20240612T153000Z
DTEND:20240612T170000Z
X-MICROSOFT-CDO-ALLDAYEVENT:FALSE
SUMMARY:WIN-Women's Inspiration Network
DESCRIPTION:WIN - Women's Inspiration Network
X-ALT-DESC;FMTTYPE=text/html:WIN - Women&#39\;s Inspiration Network
LOCATION:Seminole State College 2505 Lockwood Blvd\, Oviedo
UID:e.1204.44107
SEQUENCE:3
DTSTAMP:20260421T044010Z
URL:https://business.owsrcc.org/events/details/win-women-s-inspiration-network-44107
END:VEVENT

END:VCALENDAR
