BEGIN:VCALENDAR
VERSION:2.0
PRODID:-//ChamberMaster//Event Calendar 2.0//EN
METHOD:PUBLISH
X-PUBLISHED-TTL:P3D
REFRESH-INTERVAL:P3D
CALSCALE:GREGORIAN
BEGIN:VEVENT
DTSTART:20231213T230000Z
DTEND:20231214T010000Z
X-MICROSOFT-CDO-ALLDAYEVENT:FALSE
SUMMARY:WIN Holiday Party
DESCRIPTION:It's time for our annual\, members-only Holiday Party!\n\n\n\nWIN (Women in Networking\, formerly known as OBN) presented by AdventHealth for Women was established in 1997. Our group consists of area businesswomen who meet monthly to exchange information\, share contacts\, and provide a support system for professional women within our area. We also host various signature events throughout the year at various locations.
X-ALT-DESC;FMTTYPE=text/html:<span style="font-size: 14px\;">It&#39\;s time for our annual\, members-only Holiday Party!</span><br />\n<br />\n<span style="font-size:14px\;"><span open="" style="font-family: ">WIN (Women in Networking\, formerly known as OBN) presented by AdventHealth for Women was established in 1997. Our group consists of area businesswomen who meet monthly to exchange information\, share contacts\, and provide a support system for professional women within our area. We also host various signature events throughout the year at various locations.</span></span>
LOCATION:Food Factory at Oviedo on the Park
UID:e.1204.41517
SEQUENCE:3
DTSTAMP:20260421T202535Z
URL:https://business.owsrcc.org/events/details/win-holiday-party-41517
END:VEVENT

END:VCALENDAR
