BEGIN:VCALENDAR
VERSION:2.0
PRODID:-//ChamberMaster//Event Calendar 2.0//EN
METHOD:PUBLISH
X-PUBLISHED-TTL:P3D
REFRESH-INTERVAL:P3D
CALSCALE:GREGORIAN
BEGIN:VEVENT
DTSTART:20230913T153000Z
DTEND:20230913T210000Z
X-MICROSOFT-CDO-ALLDAYEVENT:FALSE
SUMMARY:WIN Golf Outing
DESCRIPTION:Introducing the new women's networking group\, WIN! Women's Inspiration Network is our women's networking group that will focus on supporting women in business. We'll have monthly meetings\, group volunteer days and fun outing events such as a Fashion Show\, Golfing\, a Holiday Party and more!\n\n\n\nThis month is our Golf Outing! Curious about golf or love to play\, then this event is for you. Enjoy a day of networking\, golf and a style bar too! Includes lunch\, 1/2 hour clinic with the golf pro\, cocktail hour\, golfing\, door prizes and grab a chair massage\, make up & hair styled in a power packed fun filled afternoon. All skill levels are welcome!\n\n\n\nPreviously termed Oviedo Businesswomen Network (OBN)\, this group is presented by AdventHealth for Women and was established in 1997. WIN consists of area businesswomen who meet monthly to exchange information\, share contacts\, and provide a support system for professional women within our chamber's service area. Monthly meetings occur on the 2nd Wednesday of the month at 11:30 AM at various locations in Oviedo and Winter Springs.
X-ALT-DESC;FMTTYPE=text/html:<p data-uw-styling-context="true" style="box-sizing: border-box\; margin: 0px 0px 10px\; overflow-wrap: break-word\; color: rgb(0\, 0\, 0)\; font-family: Raleway\, sans-serif\; font-size: 16px\;"><span style="font-size: 14px\;"><span style="font-family:arial\;">Introducing the new women&#39\;s networking group\, WIN! Women&#39\;s Inspiration Network&nbsp\;is our women&#39\;s networking group that will focus on supporting women in business. We&#39\;ll have monthly meetings\, group volunteer days and fun outing events such as a Fashion Show\, Golfing\, a Holiday Party and more!<br />\n<br />\nThis month is our Golf Outing!&nbsp\;Curious about golf or love to play\, then this event is for you. Enjoy a day of networking\, golf and a style bar too! Includes lunch\, 1/2 hour clinic&nbsp\;with&nbsp\;the golf pro\, cocktail hour\, golfing\, door prizes and grab a chair massage\, make up &amp\; hair styled in a power packed fun filled afternoon. All skill levels are welcome!</span></span><br />\n<br />\n<span style="font-size: 14px\;"><span style="font-family: arial\;">Previously termed Oviedo Businesswomen Network (OBN)\, this group is presented by AdventHealth for Women and was established in 1997. WIN consists of area businesswomen who meet monthly to exchange information\, share contacts\, and provide a support system for professional women within our chamber&rsquo\;s service area.&nbsp\;</span></span><span style="font-size: 14px\;"><span style="font-family: arial\;">Monthly meetings occur on the 2nd Wednesday of the month at 11:30 AM at various locations in Oviedo and Winter Springs.</span></span></p>\n
LOCATION:Twin Rivers\, Oviedo
UID:e.1204.41496
SEQUENCE:3
DTSTAMP:20260422T031408Z
URL:https://business.owsrcc.org/events/details/win-golf-outing-41496
END:VEVENT

END:VCALENDAR
