BEGIN:VCALENDAR
VERSION:2.0
PRODID:-//ChamberMaster//Event Calendar 2.0//EN
METHOD:PUBLISH
X-PUBLISHED-TTL:P3D
REFRESH-INTERVAL:P3D
CALSCALE:GREGORIAN
BEGIN:VEVENT
DTSTART:20230726T200000Z
DTEND:20230726T220000Z
X-MICROSOFT-CDO-ALLDAYEVENT:FALSE
SUMMARY:Watermark's Escape To Paradise Party
DESCRIPTION:The Watermark at Vistawilla invites you to a summer evening gathering with a tropical theme!  Drinks\, doorprizes\, photo-booth & music!
X-ALT-DESC;FMTTYPE=text/html:The Watermark at Vistawilla invites you to a summer evening gathering with a tropical theme!&nbsp\; Drinks\, doorprizes\, photo-booth &amp\; music!&nbsp\;&nbsp\;
LOCATION:The Watermark at Vistawilla 1519 E. State Road 434\, Winter Springs
UID:e.1204.42183
SEQUENCE:3
DTSTAMP:20260422T045755Z
URL:https://business.owsrcc.org/events/details/watermark-s-escape-to-paradise-party-42183
END:VEVENT

END:VCALENDAR
