BEGIN:VCALENDAR
VERSION:2.0
PRODID:-//ChamberMaster//Event Calendar 2.0//EN
METHOD:PUBLISH
X-PUBLISHED-TTL:P3D
REFRESH-INTERVAL:P3D
CALSCALE:GREGORIAN
BEGIN:VEVENT
DTSTART:20240320T130000Z
DTEND:20240321T190000Z
X-MICROSOFT-CDO-ALLDAYEVENT:FALSE
SUMMARY:Virtual Dementia Experience
DESCRIPTION:Despite the prevalence of Alzheimer's disease\, it's still a challenge for many people to understand what it's like to live with Alzheimer's disease.  Benton House hopes to help those understand the struggles patients face every day\, this tour simulates the obstacles dementia patients face and tour participants will get the chance to see and feel what a dementia patient may experience.\n\n\n\nA MUST for caregivers and a learning tool for all!!  These virtual dementia experiences are limited and by appointment only on March 20th and 21st.  Please call 1-321-415-0400 today to reserve your spot.  We look forward to seeing you for this amazing journey
X-ALT-DESC;FMTTYPE=text/html:<span style="background-color:rgb(255\, 255\, 255)\; color:rgb(51\, 51\, 51)\; font-family:sans-serif\,arial\,verdana\,trebuchet ms\; font-size:13px">Despite the prevalence of Alzheimer&#39\;s disease\, it&#39\;s still a challenge for many people to understand what it&#39\;s like to live with Alzheimer&#39\;s disease.&nbsp\; Benton House hopes to help those understand the struggles patients face every day\, this tour simulates the obstacles dementia patients face and tour participants will get the chance to see and feel what a dementia patient may experience.</span><br />\n<br />\nA <strong>MUST</strong> for caregivers and a learning tool for all!!&nbsp\; These virtual dementia experiences are limited and by appointment only on March 20th and 21st.&nbsp\; Please call 1-321-415-0400 today to reserve your spot.&nbsp\; We look forward to seeing you for this amazing journey<br />\n<br />\n&nbsp\;
LOCATION:Benton House of Oviedo 1915 West CR 419 Oviedo\, FL 32766
UID:e.1204.44092
SEQUENCE:3
DTSTAMP:20260421T095206Z
URL:https://business.owsrcc.org/events/details/virtual-dementia-experience-44092
END:VEVENT

END:VCALENDAR
