BEGIN:VCALENDAR
VERSION:2.0
PRODID:-//ChamberMaster//Event Calendar 2.0//EN
METHOD:PUBLISH
X-PUBLISHED-TTL:P3D
REFRESH-INTERVAL:P3D
CALSCALE:GREGORIAN
BEGIN:VEVENT
DTSTART:20240411T220000Z
DTEND:20240411T230000Z
X-MICROSOFT-CDO-ALLDAYEVENT:FALSE
SUMMARY:Veterans Aid and Attendance Seminar
DESCRIPTION:You may be eligible for VA benefits if you are a wartime veteran or the surviving spouse of a wartime veteran.  Keith Dawkins\, Senior Specialist for Aging Options\, will discuss an overview of the program benefits\, eligibility requirements and how to apply for and maintain benefits.  Benton House will be hosting the event and light refreshments will be served\, seating is limited.  RSVP Today\n\n\n\nWe thank all veterans for their service and sacrifice to our country and look forward to seeing you there!
X-ALT-DESC;FMTTYPE=text/html:You may be eligible for VA benefits if you are a wartime veteran or the surviving spouse of a wartime veteran.&nbsp\; Keith Dawkins\, Senior Specialist for Aging Options\, will discuss an overview of the program benefits\, eligibility requirements and how to apply for and maintain benefits.&nbsp\; Benton House will be hosting the event and light refreshments will be served\, seating is limited.&nbsp\; RSVP Today<br />\n<br />\nWe thank all veterans for their service and sacrifice to our country and look forward to seeing you there!
LOCATION:Benton House of Oviedo\, A senior living community 1915 West CR 419 Oviedo\, FL 32766
UID:e.1204.44135
SEQUENCE:3
DTSTAMP:20260421T124522Z
URL:https://business.owsrcc.org/events/details/veterans-aid-and-attendance-seminar-44135
END:VEVENT

END:VCALENDAR
