BEGIN:VCALENDAR
VERSION:2.0
PRODID:-//ChamberMaster//Event Calendar 2.0//EN
METHOD:PUBLISH
X-PUBLISHED-TTL:P3D
REFRESH-INTERVAL:P3D
CALSCALE:GREGORIAN
BEGIN:VEVENT
DTSTART:20250215T000000Z
DTEND:20250215T000000Z
X-MICROSOFT-CDO-ALLDAYEVENT:FALSE
SUMMARY:Valentine's Mystery Dinner Evening
DESCRIPTION:An Enchanted Valentine's Experience!
X-ALT-DESC;FMTTYPE=text/html:An Enchanted Valentine&#39\;s Experience!
LOCATION:The Fitch House at Founder's Square\, Longwood
UID:e.1204.45114
SEQUENCE:3
DTSTAMP:20260421T044009Z
URL:https://business.owsrcc.org/events/details/valentine-s-mystery-dinner-evening-45114
END:VEVENT

END:VCALENDAR
