BEGIN:VCALENDAR
VERSION:2.0
PRODID:-//ChamberMaster//Event Calendar 2.0//EN
METHOD:PUBLISH
X-PUBLISHED-TTL:P3D
REFRESH-INTERVAL:P3D
CALSCALE:GREGORIAN
BEGIN:VEVENT
DTSTART:20230914T213000Z
DTEND:20230914T230000Z
X-MICROSOFT-CDO-ALLDAYEVENT:FALSE
SUMMARY:Unfiltered Women's Business Network
DESCRIPTION:Welcome to the Unfiltered Women's Business Network!\n\nJoin us for an exciting in-person event at Bonefish Grill located on Lake Underhill Road\, Orlando\, FL\, USA. Get ready to connect with like-minded women who are passionate about business and empowerment.\n\nUNFILTERED is for women entrepreneurs and intrapreneurs looking for a tribe that focuses on peer mentorship\, support\, skill building\, and comradery. Our goal is to provide a safe space to discuss the day to day challenges we face\, dig deep into the messes\, and find solutions together. Real Talk.\n\nAt our event\, you'll have the opportunity to network\, share ideas\, and gain valuable insights from successful women in various industries. Whether you're a seasoned entrepreneur or just starting out\, this is the perfect place to expand your network and find inspiration.\n\nDon't miss this chance to build meaningful connections\, exchange stories\, and support each other's journeys. Come prepared to engage in thought-provoking conversations and leave feeling motivated and empowered.\n\nCome as you are\, yoga pants and all!\n\nMark your calendars and get ready for an unforgettable evening at the Unfiltered Women's Business Network!
X-ALT-DESC;FMTTYPE=text/html:<p><strong>Welcome to the Unfiltered Women&#39\;s Business Network!</strong></p>\n\n<p>Join us for an exciting in-person event at <strong>Bonefish Grill</strong> located on <strong>Lake Underhill Road\, Orlando\, FL\, USA</strong>. Get ready to connect with like-minded women who are passionate about business and empowerment.</p>\n\n<p>UNFILTERED is for women entrepreneurs and intrapreneurs looking for a tribe that focuses on peer mentorship\, support\, skill building\, and comradery. Our goal is to provide a safe space to discuss the day to day challenges we face\, dig deep into the messes\, and find solutions together. Real Talk.</p>\n\n<p>At our event\, you&#39\;ll have the opportunity to network\, share ideas\, and gain valuable insights from successful women in various industries. Whether you&#39\;re a seasoned entrepreneur or just starting out\, this is the perfect place to expand your network and find inspiration.</p>\n\n<p>Don&#39\;t miss this chance to build meaningful connections\, exchange stories\, and support each other&#39\;s journeys. Come prepared to engage in thought-provoking conversations and leave feeling motivated and empowered.</p>\n\n<p>Come as you are\, yoga pants and all!</p>\n\n<p>Mark your calendars and get ready for an unforgettable evening at the Unfiltered Women&#39\;s Business Network!</p>\n
LOCATION:Bonefish Grill - 12301 Lake Underhill Road Orlando
UID:e.1204.42679
SEQUENCE:3
DTSTAMP:20260422T012413Z
URL:https://business.owsrcc.org/events/details/unfiltered-women-s-business-network-42679
END:VEVENT

END:VCALENDAR
