BEGIN:VCALENDAR
VERSION:2.0
PRODID:-//ChamberMaster//Event Calendar 2.0//EN
METHOD:PUBLISH
X-PUBLISHED-TTL:P3D
REFRESH-INTERVAL:P3D
CALSCALE:GREGORIAN
BEGIN:VEVENT
DTSTART:20240116T223000Z
DTEND:20240117T010000Z
X-MICROSOFT-CDO-ALLDAYEVENT:FALSE
SUMMARY:Ultimate Putt Putt Tourney
DESCRIPTION:Join us for a mixer in East Orlando!  Enjoy a night of putt putt golf\, food and beverages\, networking and door prizes. You can experience a new way to golf and have fun while networking with business professionals. We have opportunities available for you to promote your business with a hole sign too.\n\n\n\nPopstroke is a newer family-friendly golf and outdoor dining experience featuring two 18-hole Tiger Woods designed putting courses. They're an experiential golf and casual dining concept merging a dynamic\, technologically advanced golf environment with food and beverage.
X-ALT-DESC;FMTTYPE=text/html:<p><span style="font-family:arial\;"><span style="font-size:14px\;">Join us&nbsp\;for a mixer in East Orlando!&nbsp\; Enjoy a night of putt putt golf\, food and beverages\, networking and door prizes. You can experience a new way to golf and have fun while networking with business professionals. We have opportunities available for you&nbsp\;to promote your business with a hole sign too.</span></span><br />\n<br />\n<span style="font-size: 14px\; font-family: arial\;">Popstroke&nbsp\;is a newer family-friendly golf and outdoor dining experience featuring two 18-hole Tiger Woods designed putting courses. They&#39\;re an experiential golf and casual dining concept merging a dynamic\, technologically advanced golf environment with food and beverage.</span></p>\n
LOCATION:Popstroke 321 N. Alafaya Trail Orlando\, FL 32828
UID:e.1204.41769
SEQUENCE:3
DTSTAMP:20260421T141612Z
URL:https://business.owsrcc.org/events/details/ultimate-putt-putt-tourney-41769
END:VEVENT

END:VCALENDAR
