BEGIN:VCALENDAR
VERSION:2.0
PRODID:-//ChamberMaster//Event Calendar 2.0//EN
METHOD:PUBLISH
X-PUBLISHED-TTL:P3D
REFRESH-INTERVAL:P3D
CALSCALE:GREGORIAN
BEGIN:VEVENT
DTSTART:20240829T133000Z
DTEND:20240829T153000Z
X-MICROSOFT-CDO-ALLDAYEVENT:FALSE
SUMMARY:Truth About Medicaid Planning
DESCRIPTION:This workshop will debunk many of the myths you may have heard with regard to Medicaid eligibility. We will explore opportunities that enable you to protect and preserve your assets\, preserve your independence and maintain your security as you confront the concerns of aging\, illness and possible nursing home placement.
X-ALT-DESC;FMTTYPE=text/html:This workshop will debunk many of the myths you may have heard with regard to Medicaid eligibility. We will explore opportunities that enable you to protect and preserve your assets\, preserve your independence and maintain your security as you confront the concerns of aging\, illness and possible nursing home placement.
LOCATION:One Senior Place 715 Douglas Avenue Altamonte Springs\, FL 32714
UID:e.1204.44605
SEQUENCE:3
DTSTAMP:20260421T005929Z
URL:https://business.owsrcc.org/events/details/truth-about-medicaid-planning-44605
END:VEVENT

END:VCALENDAR
