BEGIN:VCALENDAR
VERSION:2.0
PRODID:-//ChamberMaster//Event Calendar 2.0//EN
METHOD:PUBLISH
X-PUBLISHED-TTL:P3D
REFRESH-INTERVAL:P3D
CALSCALE:GREGORIAN
BEGIN:VEVENT
DTSTART:20240821T133000Z
DTEND:20240821T153000Z
X-MICROSOFT-CDO-ALLDAYEVENT:FALSE
SUMMARY:Truth About Estate Planning
DESCRIPTION:Complimentary workshop designed to educate families about general estate planning principles\, federal estate and gift tax structures and the importance of implementing and maintaining estate plans.
X-ALT-DESC;FMTTYPE=text/html:Complimentary workshop designed to educate families about general estate planning principles\, federal estate and gift tax structures and the importance of implementing and maintaining estate plans.
LOCATION:Virtual location Once you register\, a confirmation email with URL will be sent
UID:e.1204.44604
SEQUENCE:3
DTSTAMP:20260421T005930Z
URL:https://business.owsrcc.org/events/details/truth-about-estate-planning-44604
END:VEVENT

END:VCALENDAR
