BEGIN:VCALENDAR
VERSION:2.0
PRODID:-//ChamberMaster//Event Calendar 2.0//EN
METHOD:PUBLISH
X-PUBLISHED-TTL:P3D
REFRESH-INTERVAL:P3D
CALSCALE:GREGORIAN
BEGIN:VEVENT
DTSTART:20240829T180000Z
DTEND:20240829T200000Z
X-MICROSOFT-CDO-ALLDAYEVENT:FALSE
SUMMARY:Truth About Estate Planning
DESCRIPTION:Complimentary workshop designed to educate families about general estate planning principles\, federal estate and gift tax structures and the importance of implementing and maintaining estate plans.
X-ALT-DESC;FMTTYPE=text/html:Complimentary workshop designed to educate families about general estate planning principles\, federal estate and gift tax structures and the importance of implementing and maintaining estate plans.
LOCATION:One Senior Place 715 Douglas Avenue Altamonte Springs\, FL 32714
UID:e.1204.44606
SEQUENCE:3
DTSTAMP:20260421T025502Z
URL:https://business.owsrcc.org/events/details/truth-about-estate-planning-08-29-2024-44606
END:VEVENT

END:VCALENDAR
