BEGIN:VCALENDAR
VERSION:2.0
PRODID:-//ChamberMaster//Event Calendar 2.0//EN
METHOD:PUBLISH
X-PUBLISHED-TTL:P3D
REFRESH-INTERVAL:P3D
CALSCALE:GREGORIAN
BEGIN:VEVENT
DTSTART:20240918T180000Z
DTEND:20240918T200000Z
X-MICROSOFT-CDO-ALLDAYEVENT:FALSE
SUMMARY:The Truth About Estate Planning
DESCRIPTION:Complimentary workshop designed to educate families about general estate planning principles\, federal estate and gift tax structures and the importance of implementing and maintaining estate plans.
X-ALT-DESC;FMTTYPE=text/html:Complimentary workshop designed to educate families about general estate planning principles\, federal estate and gift tax structures and the importance of implementing and maintaining estate plans.
LOCATION:Virtual location You will receive a confirmation email with a URL
UID:e.1204.44611
SEQUENCE:3
DTSTAMP:20260421T010026Z
URL:https://business.owsrcc.org/events/details/the-truth-about-estate-planning-44611
END:VEVENT

END:VCALENDAR
