BEGIN:VCALENDAR
VERSION:2.0
PRODID:-//ChamberMaster//Event Calendar 2.0//EN
METHOD:PUBLISH
X-PUBLISHED-TTL:P3D
REFRESH-INTERVAL:P3D
CALSCALE:GREGORIAN
BEGIN:VEVENT
DTSTART:20240309T130000Z
DTEND:20240309T150000Z
X-MICROSOFT-CDO-ALLDAYEVENT:FALSE
SUMMARY:The 13th Annual Sham Rock N' Run 5k
DESCRIPTION:Catch the luck of the Irish at the best St. Patrick's day 5K around!\n\nYour registration will help prevent homelessness right here in Seminole County! So walk\, run\, skip\, or hop your way to the finish line.\n\nPrizes will be awarded for: Largest team\, Best Costume\, Lil' Leprechaun Lap\, and top male and female finishers in age categories 9 and under all the way to 80+!\n\nHOPE's 13th Annual Sham Rock N' Run 5k \n\nSaturday\, March 9\, 2024\n\nStart Time: 8:00AM\, Registration opens at 7:00am\n\nLocation: St. Luke's Lutheran Church\, Oviedo\, FL\n\nThe first 600 to register will receive a Performance T-shirt\, Finisher's Medal\, and a custom race bib.\n\nT-shirt sizes\, are Adult sizes only and will not be guaranteed after January 26th\, 2024\n\nAll participants are encouraged to dress up in their St. Patty's Day best! Prizes will be awarded for the best costumes. There will also be a special prize for the largest team. All attendees are encouraged to bring non perishable food items to support our Food Pantry for families in need.\n\nChildren pushed in strollers are welcome to attend for free. All strollers and baby joggers must start at the back of the pack.\n\nParking is available on site at no charge.\n\nFor safety reasons\, no skates\, skateboards\, bikes\, or non-service animals will be allowed on the racecourse.\n\nAwards/Giveaways \n\nAwards will be given to the top 3 male/female runners in the following age categories:\n\n9 and under\, 10-14\, 15-19\, 20-29\, 30-39\, 40-49\, 50-59\, 60-69\, 70-79\, 80+\n\nAll proceeds from the Sham Rock N Run benefit HOPE Helps\, Inc.\, whose mission is to prevent and reduce homelessness in Central Florida. Learn more about HOPE at www.hopehelps.org. \n\nPacket Pick Up\n\nThe HOPE Chest Thrift Store\n\n1802 W. Broadway St.\, Oviedo\, FL 32765\n\nThursday 3/7\, 10am - 5:30pm\n\nFriday 3/8\, 10am -  5:30pm \n\nSaturday 3/9 - 7am at St. Luke's at 2021 West State Road 426\, Oviedo\, FL 32765\n\nCheck back for Sham Rock N Run 5k Volunteer Opportunities.\n\n*If you are not present on race day\, your shirt and medal will be available for pick up at HOPE Helps -  812 Eyrie Drive\, Oviedo\, FL 32765. beginning March 11th through March 15th\, 2024. Or they can be mailed to you for an additional $5 postage fee. Email events@hopehelps.org for more details.\n\nNo refunds or transfers will be given.
X-ALT-DESC;FMTTYPE=text/html:<h3><span style="font-size:14px"><span style="color:#000000">Catch the luck of the Irish at the best St. Patrick&rsquo\;s day 5K around!</span></span></h3>\n\n<h3><span style="font-size:14px"><span style="color:#000000">Your registration will help prevent homelessness right here in Seminole County! So walk\, run\, skip\, or hop your way to the finish line.</span></span></h3>\n\n<h3><span style="font-size:14px"><span style="color:#000000">Prizes will be awarded for: Largest team\, Best Costume\, Lil&rsquo\; Leprechaun Lap\, and top male and female finishers in age categories 9 and under all the way to 80+!</span></span></h3>\n\n<p><span style="font-size:14px"><span style="color:#000000">HOPE&#39\;s 13th Annual Sham Rock N&#39\; Run 5k&nbsp\;<br />\nSaturday\, March 9\, 2024<br />\nStart Time: 8:00AM\, Registration opens at 7:00am<br />\nLocation:&nbsp\;St. Luke&#39\;s Lutheran Church\, Oviedo\, FL</span></span></p>\n\n<p><span style="font-size:14px"><span style="color:#000000"><em>The first 600 to register will receive a Performance T-shirt\, Finisher&rsquo\;s Medal\, and a custom race bib.</em></span></span></p>\n\n<p><span style="font-size:14px"><span style="color:#000000">T-shirt sizes\, are Adult sizes only and will not be guaranteed after January 26th\, 2024</span></span></p>\n\n<p><span style="font-size:14px"><span style="color:#000000">All participants are encouraged to dress up in their St. Patty&#39\;s Day best! Prizes will be awarded for the best costumes. There will also be a special prize for the largest team. All attendees are encouraged to bring non perishable food items to support our Food Pantry for families in need.</span></span></p>\n\n<p><span style="font-size:14px"><span style="color:#000000">Children pushed in strollers are welcome to attend for free. All strollers and baby joggers must start at the back of the pack.</span></span></p>\n\n<p><span style="font-size:14px"><span style="color:#000000"><strong>Parking&nbsp\;</strong>is available on site at no charge.</span></span></p>\n\n<p><span style="font-size:14px"><span style="color:#000000">For safety reasons\, no skates\, skateboards\, bikes\, or non-service animals will be allowed on the racecourse.</span></span></p>\n\n<p><span style="font-size:14px"><span style="color:#000000"><strong>Awards/Giveaways</strong>&nbsp\;<br />\nAwards will be given to the top 3 male/female runners in the following age categories:<br />\n9 and under\, 10-14\, 15-19\, 20-29\, 30-39\, 40-49\, 50-59\, 60-69\, 70-79\, 80+</span></span></p>\n\n<p><span style="font-size:14px"><span style="color:#000000">All proceeds from the Sham Rock N Run benefit HOPE Helps\, Inc.\, whose mission is to prevent and reduce homelessness in Central Florida. Learn more about HOPE at&nbsp\;</span><a href="http://www.hopehelps.org/" rel="nofollow noopener noreferrer" style="box-sizing: inherit\; background-color: rgba(0\, 0\, 0\, 0)\; color: rgb(0\, 130\, 0)\; text-decoration-line: none\;" target="_blank"><span style="color:#000000">www.hopehelps.org</span></a><span style="color:#000000">.&nbsp\;</span></span></p>\n\n<p><span style="font-size:14px"><span style="color:#000000"><strong>Packet Pick Up</strong><br />\nThe HOPE Chest Thrift Store</span><br />\n<a href="https://www.google.com/search?q=1802+W.+Broadway+St.%2C+Oviedo%2C+FL+32765&amp\;rlz=1C1GCEA_enUS812US812&amp\;oq=1802+W.+Broadway+St.%2C+Oviedo%2C+FL+32765&amp\;aqs=chrome..69i57j33i299.1903j0j15&amp\;sourceid=chrome&amp\;ie=UTF-8" rel="nofollow noopener noreferrer" style="box-sizing: inherit\; background-color: rgba(0\, 0\, 0\, 0)\; color: rgb(0\, 130\, 0)\; text-decoration-line: none\;" target="_blank" title="Click Here for Directions"><span style="color:#000000">1802 W. Broadway St.\, Oviedo\, FL 32765</span></a></span></p>\n\n<p><span style="font-size:14px"><span style="color:#000000">Thursday 3/7\, 10am - 5:30pm<br />\nFriday 3/8\, 10am -&nbsp\; 5:30pm&nbsp\;</span></span></p>\n\n<p><span style="font-size:14px"><span style="color:#000000">Saturday 3/9 - 7am at&nbsp\;St. Luke&#39\;s at 2021 West State Road 426\, Oviedo\, FL 32765</span></span></p>\n\n<p><span style="font-size:14px"><span style="color:#000000">Check back for Sham Rock N Run 5k Volunteer Opportunities.</span></span></p>\n\n<p><span style="font-size:14px"><span style="color:#000000">*If you are not present on race day\, your shirt and medal will be available for pick up at HOPE Helps -&nbsp\;&nbsp\;</span><a href="https://www.google.com/search?q=812+Eyrie+Drive%2C+Oviedo%2C+FL+32765&amp\;rlz=1C1GCEA_enUS812US812&amp\;oq=812+Eyrie+Drive%2C+Oviedo%2C+FL+32765&amp\;aqs=chrome..69i57j0i512.1277j0j15&amp\;sourceid=chrome&amp\;ie=UTF-8" rel="nofollow noopener noreferrer" style="box-sizing: inherit\; background-color: rgba(0\, 0\, 0\, 0)\; color: rgb(0\, 130\, 0)\; text-decoration-line: none\;" target="_blank" title="Click Here"><span style="color:#000000">812 Eyrie Drive\, Oviedo\, FL 32765</span></a><span style="color:#000000">. beginning March 11th through March 15th\, 2024. Or they can be mailed to you for an additional $5 postage fee. Email&nbsp\;</span><a href="mailto:events@hopehelps.org" rel="nofollow noopener noreferrer" style="box-sizing: inherit\; background-color: rgba(0\, 0\, 0\, 0)\; color: rgb(0\, 130\, 0)\; text-decoration-line: none\;" target="_blank"><span style="color:#000000">events@hopehelps.org</span></a><span style="color:#000000">&nbsp\;for more details.</span></span></p>\n\n<p><span style="font-size:14px"><span style="color:#000000">No refunds or transfers will be given.</span></span></p>\n
LOCATION:St. Luke's Lutheran Church\, Oviedo\, FL
UID:e.1204.42815
SEQUENCE:3
DTSTAMP:20260421T111037Z
URL:https://business.owsrcc.org/events/details/the-13th-annual-sham-rock-n-run-5k-42815
END:VEVENT

END:VCALENDAR
