BEGIN:VCALENDAR
VERSION:2.0
PRODID:-//ChamberMaster//Event Calendar 2.0//EN
METHOD:PUBLISH
X-PUBLISHED-TTL:P3D
REFRESH-INTERVAL:P3D
CALSCALE:GREGORIAN
BEGIN:VEVENT
DTSTART:20240118T200000Z
DTEND:20240118T230000Z
X-MICROSOFT-CDO-ALLDAYEVENT:FALSE
SUMMARY:Tailgate Wars 2024
DESCRIPTION:A Fun Football themed event to raise money for the Orlando Union Rescue Mission.
X-ALT-DESC;FMTTYPE=text/html:A Fun Football themed event to raise money for the Orlando Union Rescue Mission.
LOCATION:Orlando Lutheran Towers 300 E. Church Street Orlando FL 32801 407.425.1033
UID:e.1204.43650
SEQUENCE:3
DTSTAMP:20260421T124900Z
URL:https://business.owsrcc.org/events/details/tailgate-wars-2024-43650
END:VEVENT

END:VCALENDAR
