BEGIN:VCALENDAR
VERSION:2.0
PRODID:-//ChamberMaster//Event Calendar 2.0//EN
METHOD:PUBLISH
X-PUBLISHED-TTL:P3D
REFRESH-INTERVAL:P3D
CALSCALE:GREGORIAN
BEGIN:VEVENT
DTSTART:20240602T160000Z
DTEND:20240602T200000Z
X-MICROSOFT-CDO-ALLDAYEVENT:FALSE
SUMMARY:Sunday Funday at The Factory
DESCRIPTION:Join us for Sunday Funday at The Factory!\n\n\n\nLive DJ in the courtyard with interactive games & prizes: 12-4 PM.\n\nSatellite bar in the courtyard with exclusive drinks: 12-4 PM.\n\nMimosa & Bloody Mary specials at The Factory Bar all day!\n\nBrunch at The Local Hen 11 AM-3 PM.\n\n\n\nStart your Sunday Funday off with Fitness at The Factory in the courtyard from 10:30-11:30 AM every Sunday!
X-ALT-DESC;FMTTYPE=text/html:Join us for Sunday Funday at The Factory!<br />\n<br />\nLive DJ in the courtyard with interactive games &amp\; prizes: 12-4 PM.<br />\nSatellite bar in the courtyard with exclusive drinks: 12-4 PM.<br />\nMimosa &amp\; Bloody Mary specials at The Factory Bar all day!<br />\nBrunch at The Local Hen 11 AM-3 PM.<br />\n<br />\nStart your Sunday Funday off with Fitness at The Factory in the courtyard from 10:30-11:30 AM every Sunday!
LOCATION:
UID:e.1204.43248
SEQUENCE:3
DTSTAMP:20260421T044238Z
URL:https://business.owsrcc.org/events/details/sunday-funday-at-the-factory-06-02-2024-43248
END:VEVENT

END:VCALENDAR
