BEGIN:VCALENDAR
VERSION:2.0
PRODID:-//ChamberMaster//Event Calendar 2.0//EN
METHOD:PUBLISH
X-PUBLISHED-TTL:P3D
REFRESH-INTERVAL:P3D
CALSCALE:GREGORIAN
BEGIN:VEVENT
DTSTART:20240406T130000Z
DTEND:20240406T160000Z
X-MICROSOFT-CDO-ALLDAYEVENT:FALSE
SUMMARY:Spring Festival at Speak Easy Solutions\, LLC
DESCRIPTION:Speak Easy Solutions\, LLC is hosting our first annual Spring Festival! Join us for the morning to learn about some incredible businesses and resources in our community\, eat some delicious food & treats\, shop for handcrafted products and more! This event will take place on Saturday\, April 6th from 9:00am to 12:00pm.\n\n \n\nWe are looking for vendors & businesses to participate in this event! If you are interested in becoming a business partner or sponsor\, please reach out to Kayla\, Marketing Executive at kayla@speakeasysolutionsllc.com for more information.\n\n \n\n*Vendors & businesses will be asked to fill out an application.*\n\n \n\nInterested in sponsoring our event? Email Kayla with the subject line "Spring Festival Business Sponsor" to learn more! Sponsors will help us make this event a success & free for families to attend with your generous contribution!
X-ALT-DESC;FMTTYPE=text/html:<div>Speak Easy Solutions\, LLC is hosting our first annual Spring Festival! Join us for the morning to learn about some incredible businesses and resources in our community\, eat some delicious food &amp\; treats\, shop for handcrafted products and more! This event will take place on Saturday\, April 6th from 9:00am to 12:00pm.<br />\n&nbsp\;</div>\n\n<div>We are looking for vendors &amp\; businesses to participate in this event! If you are interested in becoming a business partner or sponsor\, please reach out to Kayla\, Marketing Executive at kayla@speakeasysolutionsllc.com for more information.<br />\n&nbsp\;</div>\n\n<div>*Vendors &amp\; businesses will be asked to fill out an application.*<br />\n&nbsp\;</div>\n\n<div>Interested in sponsoring our event? Email Kayla with the subject line &quot\;Spring Festival Business Sponsor&quot\; to learn more! Sponsors will help us make this event a success &amp\; free for families to attend with your generous contribution!</div>\n
LOCATION:901 Clark Street\, Oviedo\, FL 32765
UID:e.1204.44081
SEQUENCE:3
DTSTAMP:20260421T124459Z
URL:https://business.owsrcc.org/events/details/spring-festival-at-speak-easy-solutions-llc-44081
END:VEVENT

END:VCALENDAR
