BEGIN:VCALENDAR
VERSION:2.0
PRODID:-//ChamberMaster//Event Calendar 2.0//EN
METHOD:PUBLISH
X-PUBLISHED-TTL:P3D
REFRESH-INTERVAL:P3D
CALSCALE:GREGORIAN
BEGIN:VEVENT
DTSTART:20250212T143000Z
DTEND:20250212T163000Z
X-MICROSOFT-CDO-ALLDAYEVENT:FALSE
SUMMARY:Special People Special Planning
DESCRIPTION:This complimentary workshop focuses on families of people with special needs and creating a financial and legal blueprint to address the special person's unique personal and social needs. You will gain an overview of the three main federal disability programs and learn how to create a customized\, comprehensive plan for your special person.
X-ALT-DESC;FMTTYPE=text/html:This complimentary workshop focuses on families of people with special needs and creating a financial and legal blueprint to address the special person&#39\;s unique personal and social needs. You will gain an overview of the three main federal disability programs and learn how to create a customized\, comprehensive plan for your special person.
LOCATION:Virtual location - Once registered\, you will receive a confirmation email with a URL
UID:e.1204.45126
SEQUENCE:3
DTSTAMP:20260421T044041Z
URL:https://business.owsrcc.org/events/details/special-people-special-planning-02-12-2025-45126
END:VEVENT

END:VCALENDAR
