BEGIN:VCALENDAR
VERSION:2.0
PRODID:-//ChamberMaster//Event Calendar 2.0//EN
METHOD:PUBLISH
X-PUBLISHED-TTL:P3D
REFRESH-INTERVAL:P3D
CALSCALE:GREGORIAN
BEGIN:VEVENT
DTSTART:20240920T130000Z
DTEND:20240920T163000Z
X-MICROSOFT-CDO-ALLDAYEVENT:FALSE
SUMMARY:Special Needs Conference
DESCRIPTION:Complimentary workshop designed to educate families with special needs family members on Special Needs Planning. Special Needs Planning is a form of estate and financial planning designed to provide for and protect a beneficiary with special needs while preserving entitlement to needs-based public assistance programs\, if any.
X-ALT-DESC;FMTTYPE=text/html:Complimentary workshop designed to educate families with special needs family members on Special Needs Planning. Special Needs Planning is a form of estate and financial planning designed to provide for and protect a beneficiary with special needs while preserving entitlement to needs-based public assistance programs\, if any.
LOCATION:Virtual location You will receive a confirmation email with a URL upon registration
UID:e.1204.44612
SEQUENCE:3
DTSTAMP:20260420T231140Z
URL:https://business.owsrcc.org/events/details/special-needs-conference-44612
END:VEVENT

END:VCALENDAR
