BEGIN:VCALENDAR
VERSION:2.0
PRODID:-//ChamberMaster//Event Calendar 2.0//EN
METHOD:PUBLISH
X-PUBLISHED-TTL:P3D
REFRESH-INTERVAL:P3D
CALSCALE:GREGORIAN
BEGIN:VEVENT
DTSTART:20231027T213000Z
DTEND:20231028T000000Z
X-MICROSOFT-CDO-ALLDAYEVENT:FALSE
SUMMARY:Sip or Treat at Oviedo Mall
DESCRIPTION:This Halloween\, Oviedo Mall answers the question\, "what if there was trick or treating for adults?"\n\nJoin us for our Halloween Sip & Shop event with a spooky twist. Take a food and wine stroll around the mall while enjoying live entertainment\, spooky photo ops and much more. Come dressed in your spooky best and receive a special prize (while supplies last) (For the safety of all participants\, no full face masks are allowed)\n\nRegistration and participation are free!\n\nMust be 21 or over to receive wristband to sample beer & wine. ID required from everyone at the time of check-in. Non-alcoholic beverage options are also available.\n\nCheck-in and receive your free wristband in front of Paul Mitchell: The School. (Wristbands only required for participants 21+)
X-ALT-DESC;FMTTYPE=text/html:<p>This Halloween\, Oviedo Mall answers the question\, &quot\;what if there was trick or treating for adults?&quot\;</p>\n\n<p>Join us for our Halloween Sip &amp\; Shop event with a spooky twist. Take a food and wine stroll around the mall while enjoying live entertainment\, spooky photo ops and much more. Come dressed in your spooky best and receive a special prize (while supplies last) (For the safety of all participants\, no full face masks are allowed)</p>\n\n<p>Registration and participation are free!</p>\n\n<p>Must be 21 or over to receive wristband to sample beer &amp\; wine. ID required from everyone at the time of check-in. Non-alcoholic beverage options are also available.</p>\n\n<p>Check-in and receive your free wristband in front of Paul Mitchell: The School. (Wristbands only required for participants 21+)</p>\n
LOCATION:Oviedo Mall | 1700 Oviedo Mall Blvd\, Oviedo\, FL 32765
UID:e.1204.42812
SEQUENCE:3
DTSTAMP:20260422T012538Z
URL:https://business.owsrcc.org/events/details/sip-or-treat-at-oviedo-mall-42812
END:VEVENT

END:VCALENDAR
