BEGIN:VCALENDAR
VERSION:2.0
PRODID:-//ChamberMaster//Event Calendar 2.0//EN
METHOD:PUBLISH
X-PUBLISHED-TTL:P3D
REFRESH-INTERVAL:P3D
CALSCALE:GREGORIAN
BEGIN:VEVENT
DTSTART:20240627T210000Z
DTEND:20240628T003000Z
X-MICROSOFT-CDO-ALLDAYEVENT:FALSE
SUMMARY:Seminole County Oviedo Winter Springs Regional Hob Nob
DESCRIPTION:About\n\n\n\nThe Seminole County/Oviedo Winter Springs Regional Hob Nob\, is back this year!\n\n\n\nThe Seminole County/Oviedo Winter Springs Regional Hob Nob is Central Florida's Premier Event of the Political Season! This event will take place on Thursday\, June 27th from 5:00 pm - 8:30 pm at the Oviedo Mall.\n\nThis regional event will include a county "Straw Poll" courtesy of the Seminole  County Supervisor of Elections Office\, appearances from candidates running for federal\, state and local offices\, with delicious food and dessert from multiple vendors\, and a variety of complimentary beverage selections. \n\n\n\nThe Seminole County Supervisors of Elections will have tables for anyone interested in registering to vote.\n\nCandidates will receive a booth space\, including a 6' table\, two chairs\, two tickets to the event\, and the opportunity to mingle with voters from across Central Florida\, for only $250.\n\n\n\nGeneral Admission to the Hob Nob will be $20 presale or $25 at the gate. Candidate ticket bundles of 10 are also available for $180\, but do not include food or drinks. These are for voting only. Larger bundles are available: 20 for $275\, 50 for $600\, or 100 for $1\,000.\n\n\n\n______________________________________________________________________________________________________________________________________\n\n\n\n \n\n\n**The Seminole County/Oviedo Winter Springs Regional Hob Nob ("SCOWSHN") is an event produced by the Oviedo-Winter Springs Regional Chamber of Commerce\, Inc.\, a 501(c)(6) ("OWSRCC"). OWSRCC does not endorse any candidate regardless of their participation in the SCOWSHN. The statements of the candidates reflect their own opinions\, positions\, and thoughts\, and are not endorsed by OWSRCC in any manner. To the extent each candidate is paying the same fee to participate\, their respective candidate pages will have an electioneering disclaimer using the language of the candidate\; provided\, however\, that the OWSRCC as host of the page makes no endorsement or approval of any such disclaimer or the candidate bio page itself.
X-ALT-DESC;FMTTYPE=text/html:<div style="">\n<p style="color: gray\;"><u style="color: rgb(0\, 0\, 0)\; font-size: 14px\;"><strong><span style="font-size: 18px\;">About</span></strong></u><br />\n<br />\n<span style="font-size:14px\;"><span style="color:#000000\;">The Seminole County/Oviedo Winter Springs&nbsp\;Regional Hob Nob\, is back&nbsp\;this year!<br />\n<br />\nThe Seminole County/Oviedo Winter Springs Regional&nbsp\;Hob Nob is Central Florida&#39\;s Premier&nbsp\;Event of the Political Season! This event will take place on Thursday\, June&nbsp\;27th&nbsp\;from 5:00 pm - 8:30 pm at the Oviedo Mall.</span></span></p>\n\n<p style="color: gray\;"><span style="font-size:14px\;"><span style="color:#000000\;">This regional event will include a county &quot\;Straw Poll&quot\;&nbsp\;courtesy of the Seminole&nbsp\; County Supervisor&nbsp\;of Elections Office\, appearances from candidates running for federal\, state and local offices\, with delicious food and dessert from multiple vendors\, and a variety of complimentary beverage selections.&nbsp\;<br />\n<br />\nThe Seminole County Supervisors of Elections will have tables for anyone interested in registering to vote.</span></span></p>\n\n<p style="color: gray\;"><span style="color:#000000\;"><span style="font-size:14px\;">Candidates will receive a booth space\, including a 6&#39\;&nbsp\;table\, two chairs\, two tickets to the event\, and the opportunity to mingle with voters from across Central Florida\, for only&nbsp\;$250.<br />\n<br />\nGeneral Admission to the Hob Nob will be $20 presale or $25 at the gate. Candidate ticket bundles&nbsp\;of 10 are also available for $180\, but do not include food or drinks. These are for voting only. Larger bundles are available: 20 for $275\, 50 for $600\, or 100 for $1\,000.<br />\n<br />\n______________________________________________________________________________________________________________________________________</span></span><br />\n<br />\n&nbsp\;</p>\n<br />\n<span style="color: rgb(0\, 0\, 0)\;"><span style="font-family: Roboto\, sans-serif\; font-size: 15px\;">**The Seminole County/Oviedo Winter Springs Regional Hob Nob (&ldquo\;SCOWSHN&rdquo\;) is an event produced by the Oviedo-Winter Springs Regional Chamber of Commerce\, Inc.\, a 501(c)(6) (&ldquo\;OWSRCC&rdquo\;). OWSRCC does not endorse any candidate regardless of their participation in the </span></span><span style="color: rgb(0\, 0\, 0)\; font-family: Roboto\, sans-serif\; font-size: 15px\;">SCOWSHN</span><span style="color: rgb(0\, 0\, 0)\;"><span style="font-family: Roboto\, sans-serif\; font-size: 15px\;">. The statements of the candidates reflect their own opinions\, positions\, and thoughts\, and are not endorsed by OWSRCC in any manner. To the extent each candidate is paying the same fee to participate\, their respective candidate pages will have an electioneering disclaimer using the language of the candidate\; provided\, however\, that the OWSRCC as host of the page makes no endorsement or approval of any such disclaimer or the candidate bio page itself.&nbsp\;</span></span></div>\n
LOCATION:Oviedo Mall Food Court Area Use South Entrance 1700 Oviedo Mall Blvd. Oviedo\, FL 32765
UID:e.1204.44096
SEQUENCE:3
DTSTAMP:20260421T062959Z
URL:https://business.owsrcc.org/events/details/seminole-county-oviedo-winter-springs-regional-hob-nob-44096
END:VEVENT

END:VCALENDAR
