BEGIN:VCALENDAR
VERSION:2.0
PRODID:-//ChamberMaster//Event Calendar 2.0//EN
METHOD:PUBLISH
X-PUBLISHED-TTL:P3D
REFRESH-INTERVAL:P3D
CALSCALE:GREGORIAN
BEGIN:VEVENT
DTSTART:20250220T223000Z
DTEND:20250221T010000Z
X-MICROSOFT-CDO-ALLDAYEVENT:FALSE
SUMMARY:Roarin' 20's Sip & Shop
DESCRIPTION:Step Back in Time at Oviedo Mall's Roarin' Twenties Sip & Shop!\n\nDate: Thursday\, February 20\, 2025\n\nTime: 5:30 PM - 8:00 PM\n\nPut on your glad rags and join us for a glamorous evening of shopping\, sipping\, and roaring good fun! The Roarin' Twenties Sip & Shop is your chance to enjoy:\n\nFREE Food & Wine Stroll: Savor delicious bites and delightful sips as you browse.\n\nLive Entertainment: Be swept away by the sounds of the Jazz Age.\n\nExciting Giveaways: Fabulous prizes await don't miss your chance to win!\n\nPhoto Ops: Snap a pic with vintage-inspired backdrops and props to capture the moment.\n\nPlus\, explore exclusive deals from our amazing retailers and vendors. Whether you're looking to shop\, mingle\, or simply soak in the vibe\, this night will be the bee's knees! Grab your friends and let's get roaring!\n\nRegistration and participation are free! CLICK HERE TO REGISTER\n\nMust be 21+ to receive a wristband for beer & wine samples (ID required at check-in). Not a fan of booze? We've got non-alcoholic sips too!\n\nCheck-in at the mall's North Entrance to grab your wristband (for 21+ only) and let the hauntingly good time begin!
X-ALT-DESC;FMTTYPE=text/html:<p>Step Back in Time at Oviedo Mall&rsquo\;s Roarin&rsquo\; Twenties Sip &amp\; Shop!</p>\n\n<p>Date: Thursday\, February 20\, 2025<br />\nTime: 5:30 PM - 8:00 PM</p>\n\n<p>Put on your glad rags and join us for a glamorous evening of shopping\, sipping\, and roaring good fun! The&nbsp\;Roarin&rsquo\; Twenties Sip &amp\; Shop&nbsp\;is your chance to enjoy:<br />\nFREE Food &amp\; Wine Stroll: Savor delicious bites and delightful sips as you browse.<br />\nLive Entertainment: Be swept away by the sounds of the Jazz Age.<br />\nExciting Giveaways: Fabulous prizes await&mdash\;don&rsquo\;t miss your chance to win!<br />\nPhoto Ops: Snap a pic with vintage-inspired backdrops and props to capture the moment.</p>\n\n<p>Plus\, explore exclusive deals from our amazing retailers and vendors. Whether you&rsquo\;re looking to shop\, mingle\, or simply soak in the vibe\, this night will be the bee&rsquo\;s knees! Grab your friends and let&rsquo\;s get roaring!</p>\n\n<p>Registration and participation are free!&nbsp\;<a href="https://www.eventbrite.com/e/1141196833449?aff=oddtdtcreator" style="box-sizing: border-box\; margin: 0px\; padding: 0px\; vertical-align: baseline\; background: transparent\; color: rgb(0\, 123\, 255)\; text-decoration-line: none\; outline: 0px !important\;">CLICK HERE TO REGISTER</a></p>\n\n<p>Must be 21+&nbsp\;to receive a wristband for beer &amp\; wine samples (ID required at check-in). Not a fan of booze? We&#39\;ve got non-alcoholic sips too!</p>\n\n<p>Check-in&nbsp\;at the mall&#39\;s North Entrance to grab your wristband (for 21+ only) and let the hauntingly good time begin!</p>\n
LOCATION:1700 Oviedo Mall Blvd\, Oviedo\, FL 32765
UID:e.1204.45132
SEQUENCE:3
DTSTAMP:20260421T044009Z
URL:https://business.owsrcc.org/events/details/roarin-20-s-sip-shop-45132
END:VEVENT

END:VCALENDAR
