BEGIN:VCALENDAR
VERSION:2.0
PRODID:-//ChamberMaster//Event Calendar 2.0//EN
METHOD:PUBLISH
X-PUBLISHED-TTL:P3D
REFRESH-INTERVAL:P3D
CALSCALE:GREGORIAN
BEGIN:VEVENT
DTSTART:20240111T180000Z
DTEND:20240111T200000Z
X-MICROSOFT-CDO-ALLDAYEVENT:FALSE
SUMMARY:Ring in the New Year with a Mimosa Happy Hour
DESCRIPTION:Come join us to celebrate the new year with us at our Open House and enjoy a Mimosa Happy Hour at The Watermark at Vistawilla. Get a delicious drink from our mimosa bar and tour our vibrant community and spacious residences. \n\nDiscover how we are redefining senior living with incredible cuisine\, interesting classes\, customized care\, Extraordinary Outings\, and so much more. \n\nWe can't wait to ring in the new year with you!\n\n \n\nMy Regards \n\nHappy New Year ?? \n\nCarmen Rivera
X-ALT-DESC;FMTTYPE=text/html:<div><span style="font-size:16px"><strong>Come join us to celebrate the new year with us at our Open House and enjoy a Mimosa Happy Hour at The Watermark at Vistawilla.&nbsp\;</strong></span><strong style="font-size:16px">Get a delicious drink from our mimosa bar and tour our vibrant community and spacious residences.&nbsp\;</strong></div>\n\n<div><span style="font-size:16px"><strong>Discover how we are redefining senior living with incredible cuisine\, interesting classes\, customized care\,&nbsp\;</strong></span><strong style="font-size:16px">Extraordinary Outings\, and so much more.&nbsp\;</strong></div>\n\n<div><strong style="font-size:16px">We can&rsquo\;t wait to ring in the new year with you!</strong></div>\n\n<div>&nbsp\;</div>\n\n<div><strong style="font-size:16px">My Regards&nbsp\;</strong></div>\n\n<div><span style="font-size:16px"><strong>Happy New Year ??&nbsp\;<br />\nCarmen Rivera&nbsp\;</strong></span><br />\n&nbsp\;</div>\n
LOCATION:1519 East State Road 434 Winter Springs FL 32708
UID:e.1204.43651
SEQUENCE:3
DTSTAMP:20260421T125330Z
URL:https://business.owsrcc.org/events/details/ring-in-the-new-year-with-a-mimosa-happy-hour-43651
END:VEVENT

END:VCALENDAR
