BEGIN:VCALENDAR
VERSION:2.0
PRODID:-//ChamberMaster//Event Calendar 2.0//EN
METHOD:PUBLISH
X-PUBLISHED-TTL:P3D
REFRESH-INTERVAL:P3D
CALSCALE:GREGORIAN
BEGIN:VEVENT
DTSTART:20240222T223000Z
DTEND:20240223T000000Z
X-MICROSOFT-CDO-ALLDAYEVENT:FALSE
SUMMARY:Ribbon-Cutting - Woof Gang Bakery
DESCRIPTION:Join us for a celebratory Ribbon-Cutting Event!  Woof Gang Bakery & Grooming is your new neighborhood pet store featuring stylish essentials\, accessories\, toys & doggie spa products!
X-ALT-DESC;FMTTYPE=text/html:Join us for a celebratory Ribbon-Cutting Event!&nbsp\; Woof Gang Bakery &amp\; Grooming is your new neighborhood pet store featuring stylish essentials\, accessories\, toys &amp\; doggie spa products!
LOCATION:1799 E. Broadway St.\, Oviedo
UID:e.1204.43649
SEQUENCE:3
DTSTAMP:20260421T125326Z
URL:https://business.owsrcc.org/events/details/ribbon-cutting-woof-gang-bakery-43649
END:VEVENT

END:VCALENDAR
