BEGIN:VCALENDAR
VERSION:2.0
PRODID:-//ChamberMaster//Event Calendar 2.0//EN
METHOD:PUBLISH
X-PUBLISHED-TTL:P3D
REFRESH-INTERVAL:P3D
CALSCALE:GREGORIAN
BEGIN:VEVENT
DTSTART:20240207T223000Z
DTEND:20240208T000000Z
X-MICROSOFT-CDO-ALLDAYEVENT:FALSE
SUMMARY:Ribbon Cutting-Waves Family Health
DESCRIPTION:Join us as we welcome Dr. Seth Winterton and his staff to Oviedo!  A direct primary care clinic\, a new WAVE in healthcare!  Come tour this beautiful facility and enjoy refreshments with your fellow members & guests!
X-ALT-DESC;FMTTYPE=text/html:Join us as we welcome Dr. Seth Winterton and his staff to Oviedo!&nbsp\; A direct primary care clinic\, a new WAVE in healthcare!&nbsp\; Come tour this beautiful facility and enjoy refreshments with your fellow members &amp\; guests!
LOCATION:1115 Wellness Way Ste. B Oviedo (near Mission BBQ)
UID:e.1204.43201
SEQUENCE:3
DTSTAMP:20260421T125906Z
URL:https://business.owsrcc.org/events/details/ribbon-cutting-waves-family-health-43201
END:VEVENT

END:VCALENDAR
