BEGIN:VCALENDAR
VERSION:2.0
PRODID:-//ChamberMaster//Event Calendar 2.0//EN
METHOD:PUBLISH
X-PUBLISHED-TTL:P3D
REFRESH-INTERVAL:P3D
CALSCALE:GREGORIAN
BEGIN:VEVENT
DTSTART:20240912T213000Z
DTEND:20240912T230000Z
X-MICROSOFT-CDO-ALLDAYEVENT:FALSE
SUMMARY:Ribbon Cutting - Violet's Ice Cream
DESCRIPTION:Join us as we cut the ribbon at the new Violet's Ice Cream Boutique in Oviedo!
X-ALT-DESC;FMTTYPE=text/html:<span style="font-size:14px\;">Join us as we cut the ribbon at the new Violet&#39\;s Ice Cream Boutique in Oviedo!</span>
LOCATION:234 E. Mitchell Hammock Rd. Oviedo
UID:e.1204.44609
SEQUENCE:3
DTSTAMP:20260421T010005Z
URL:https://business.owsrcc.org/events/details/ribbon-cutting-violet-s-ice-cream-44609
END:VEVENT

END:VCALENDAR
