BEGIN:VCALENDAR
VERSION:2.0
PRODID:-//ChamberMaster//Event Calendar 2.0//EN
METHOD:PUBLISH
X-PUBLISHED-TTL:P3D
REFRESH-INTERVAL:P3D
CALSCALE:GREGORIAN
BEGIN:VEVENT
DTSTART:20230906T213000Z
DTEND:20230906T230000Z
X-MICROSOFT-CDO-ALLDAYEVENT:FALSE
SUMMARY:Ribbon Cutting - The Local Hen & Cantina - Food Factory
DESCRIPTION:Join us for a joint ribbon cutting with The Hen and Cantina at the Food Factory!
X-ALT-DESC;FMTTYPE=text/html:<span style="font-size:14px\;">Join us for a joint ribbon cutting with The Hen and Cantina at the Food Factory!&nbsp\;</span>
LOCATION:Food Factory 888 City Walk Ln. Oviedo\, FL 32765
UID:e.1204.42805
SEQUENCE:3
DTSTAMP:20260422T032116Z
URL:https://business.owsrcc.org/events/details/ribbon-cutting-the-local-hen-cantina-food-factory-42805
END:VEVENT

END:VCALENDAR
