BEGIN:VCALENDAR
VERSION:2.0
PRODID:-//ChamberMaster//Event Calendar 2.0//EN
METHOD:PUBLISH
X-PUBLISHED-TTL:P3D
REFRESH-INTERVAL:P3D
CALSCALE:GREGORIAN
BEGIN:VEVENT
DTSTART:20240307T223000Z
DTEND:20240308T000000Z
X-MICROSOFT-CDO-ALLDAYEVENT:FALSE
SUMMARY:Ribbon Cutting - Sugar-hi
DESCRIPTION:Join us in cutting the ribbon at Sugar-hi at their new location in the Food Court at Oviedo mall!
X-ALT-DESC;FMTTYPE=text/html:Join us in cutting the ribbon at Sugar-hi at their new location in the Food Court at Oviedo mall!
LOCATION:Oviedo Mall Food Court
UID:e.1204.43210
SEQUENCE:3
DTSTAMP:20260421T095401Z
URL:https://business.owsrcc.org/events/details/ribbon-cutting-sugar-hi-43210
END:VEVENT

END:VCALENDAR
