BEGIN:VCALENDAR
VERSION:2.0
PRODID:-//ChamberMaster//Event Calendar 2.0//EN
METHOD:PUBLISH
X-PUBLISHED-TTL:P3D
REFRESH-INTERVAL:P3D
CALSCALE:GREGORIAN
BEGIN:VEVENT
DTSTART:20260512T133000Z
DTEND:20260512T150000Z
X-MICROSOFT-CDO-ALLDAYEVENT:FALSE
SUMMARY:RIBBON CUTTING / SHAKE SHACK OVIEDO
DESCRIPTION:RIBBON CUTTING / SHAKE SHACK OVIEDO
X-ALT-DESC;FMTTYPE=text/html:RIBBON CUTTING / SHAKE SHACK OVIEDO
LOCATION:Shake Shack Oviedo 65 W Mitchell Hammock Road #1501 Oviedo\, FL 32765
UID:e.1204.46116
SEQUENCE:3
DTSTAMP:20260425T135533Z
URL:https://business.owsrcc.org/events/details/ribbon-cutting-shake-shack-oviedo-46116
END:VEVENT

END:VCALENDAR
