BEGIN:VCALENDAR
VERSION:2.0
PRODID:-//ChamberMaster//Event Calendar 2.0//EN
METHOD:PUBLISH
X-PUBLISHED-TTL:P3D
REFRESH-INTERVAL:P3D
CALSCALE:GREGORIAN
BEGIN:VEVENT
DTSTART:20240425T213000Z
DTEND:20240425T230000Z
X-MICROSOFT-CDO-ALLDAYEVENT:FALSE
SUMMARY:Ribbon Cutting-Seniors Helping Seniors
DESCRIPTION:Join us for the celebratory ribbon cutting event of Seniors Helping Seniors!
X-ALT-DESC;FMTTYPE=text/html:Join us for the celebratory ribbon cutting event of Seniors Helping Seniors!
LOCATION:186 S. Central Ave.\, Oviedo
UID:e.1204.44073
SEQUENCE:3
DTSTAMP:20260421T095600Z
URL:https://business.owsrcc.org/events/details/ribbon-cutting-seniors-helping-seniors-44073
END:VEVENT

END:VCALENDAR
