BEGIN:VCALENDAR
VERSION:2.0
PRODID:-//ChamberMaster//Event Calendar 2.0//EN
METHOD:PUBLISH
X-PUBLISHED-TTL:P3D
REFRESH-INTERVAL:P3D
CALSCALE:GREGORIAN
BEGIN:VEVENT
DTSTART:20240418T213000Z
DTEND:20240418T230000Z
X-MICROSOFT-CDO-ALLDAYEVENT:FALSE
SUMMARY:Ribbon Cutting - Phoebe's Homemade Ice Cream & Cafe
DESCRIPTION:Join us for a belated ribbon-cutting ceremony at Phoebe's Homemade Ice Cream & Cafe!
X-ALT-DESC;FMTTYPE=text/html:Join us for a belated ribbon-cutting ceremony at Phoebe&#39\;s Homemade Ice Cream &amp\; Cafe!
LOCATION:1954 W. State Rd. 426\, Ste. 1106\, Oviedo (near Home Depot)
UID:e.1204.44059
SEQUENCE:3
DTSTAMP:20260421T081647Z
URL:https://business.owsrcc.org/events/details/ribbon-cutting-phoebe-s-homemade-ice-cream-cafe-44059
END:VEVENT

END:VCALENDAR
