BEGIN:VCALENDAR
VERSION:2.0
PRODID:-//ChamberMaster//Event Calendar 2.0//EN
METHOD:PUBLISH
X-PUBLISHED-TTL:P3D
REFRESH-INTERVAL:P3D
CALSCALE:GREGORIAN
BEGIN:VEVENT
DTSTART:20240906T190000Z
DTEND:20240906T200000Z
X-MICROSOFT-CDO-ALLDAYEVENT:FALSE
SUMMARY:Ribbon Cutting - Oviedo Park Pub
DESCRIPTION:Join us at a special time - as we cut the ribbon at the new Oviedo Park Pub at The Food Factory!
X-ALT-DESC;FMTTYPE=text/html:Join us at a special time - as we cut the ribbon at the new Oviedo Park Pub at The Food Factory!
LOCATION:888 City Walk Lane\, Oviedo
UID:e.1204.44614
SEQUENCE:3
DTSTAMP:20260420T231304Z
URL:https://business.owsrcc.org/events/details/ribbon-cutting-oviedo-park-pub-44614
END:VEVENT

END:VCALENDAR
