BEGIN:VCALENDAR
VERSION:2.0
PRODID:-//ChamberMaster//Event Calendar 2.0//EN
METHOD:PUBLISH
X-PUBLISHED-TTL:P3D
REFRESH-INTERVAL:P3D
CALSCALE:GREGORIAN
BEGIN:VEVENT
DTSTART:20240917T213000Z
DTEND:20240917T230000Z
X-MICROSOFT-CDO-ALLDAYEVENT:FALSE
SUMMARY:Ribbon Cutting - Oviedo Oyster House
DESCRIPTION:Join us as we cut the celebratory ribbon at the new Oviedo Oyster House!
X-ALT-DESC;FMTTYPE=text/html:Join us as we cut the celebratory ribbon at the new Oviedo Oyster House!
LOCATION:1340 Alafaya Trail\, Oviedo
UID:e.1204.44594
SEQUENCE:3
DTSTAMP:20260420T231426Z
URL:https://business.owsrcc.org/events/details/ribbon-cutting-oviedo-oyster-house-44594
END:VEVENT

END:VCALENDAR
