BEGIN:VCALENDAR
VERSION:2.0
PRODID:-//ChamberMaster//Event Calendar 2.0//EN
METHOD:PUBLISH
X-PUBLISHED-TTL:P3D
REFRESH-INTERVAL:P3D
CALSCALE:GREGORIAN
BEGIN:VEVENT
DTSTART:20240416T213000Z
DTEND:20240416T230000Z
X-MICROSOFT-CDO-ALLDAYEVENT:FALSE
SUMMARY:Ribbon Cutting-Oviedo Olive Oil
DESCRIPTION:Join us in cutting the ribbon at the new location of Oviedo Olive Oil in the Oviedo Mall.
X-ALT-DESC;FMTTYPE=text/html:Join us in cutting the ribbon at the new location of Oviedo Olive Oil in the Oviedo Mall.
LOCATION:Oviedo Mall
UID:e.1204.44076
SEQUENCE:3
DTSTAMP:20260421T095531Z
URL:https://business.owsrcc.org/events/details/ribbon-cutting-oviedo-olive-oil-44076
END:VEVENT

END:VCALENDAR
