BEGIN:VCALENDAR
VERSION:2.0
PRODID:-//ChamberMaster//Event Calendar 2.0//EN
METHOD:PUBLISH
X-PUBLISHED-TTL:P3D
REFRESH-INTERVAL:P3D
CALSCALE:GREGORIAN
BEGIN:VEVENT
DTSTART:20250117T170000Z
DTEND:20250117T180000Z
X-MICROSOFT-CDO-ALLDAYEVENT:FALSE
SUMMARY:Ribbon Cutting - Kelly's Ice Cream Fifth Anniversary
DESCRIPTION:Join us as we celebrate the Fifth Anniversary of Kelly's Ice Cream in Oviedo!\n\nWe will cut the celebratory ribbon at 12-noon.  Here's to the first delicious five years of Kelly's!
X-ALT-DESC;FMTTYPE=text/html:Join us as we celebrate the Fifth Anniversary of Kelly&#39\;s Ice Cream in Oviedo!<br />\nWe will cut the celebratory ribbon at 12-noon.&nbsp\; Here&#39\;s to the first delicious five years of Kelly&#39\;s!
LOCATION:119 N. Central Ave\, Oviedo
UID:e.1204.45112
SEQUENCE:3
DTSTAMP:20260421T025702Z
URL:https://business.owsrcc.org/events/details/ribbon-cutting-kelly-s-ice-cream-fifth-anniversary-45112
END:VEVENT

END:VCALENDAR
