BEGIN:VCALENDAR
VERSION:2.0
PRODID:-//ChamberMaster//Event Calendar 2.0//EN
METHOD:PUBLISH
X-PUBLISHED-TTL:P3D
REFRESH-INTERVAL:P3D
CALSCALE:GREGORIAN
BEGIN:VEVENT
DTSTART:20240328T213000Z
DTEND:20240328T230000Z
X-MICROSOFT-CDO-ALLDAYEVENT:FALSE
SUMMARY:Ribbon Cutting-Hawaii Fluid Art
DESCRIPTION:Join us for a celebratory ribbon-cutting event at the new Hawaii Fluid Art at the Winter Springs Town Center!
X-ALT-DESC;FMTTYPE=text/html:Join us for a celebratory ribbon-cutting event at the new Hawaii Fluid Art at the Winter Springs Town Center!
LOCATION:1192 E. State Rd. 434 Winter Springs
UID:e.1204.44062
SEQUENCE:3
DTSTAMP:20260421T095404Z
URL:https://business.owsrcc.org/events/details/ribbon-cutting-hawaii-fluid-art-44062
END:VEVENT

END:VCALENDAR
