BEGIN:VCALENDAR
VERSION:2.0
PRODID:-//ChamberMaster//Event Calendar 2.0//EN
METHOD:PUBLISH
X-PUBLISHED-TTL:P3D
REFRESH-INTERVAL:P3D
CALSCALE:GREGORIAN
BEGIN:VEVENT
DTSTART:20240220T223000Z
DTEND:20240221T000000Z
X-MICROSOFT-CDO-ALLDAYEVENT:FALSE
SUMMARY:Ribbon Cutting-Fifth Third Bank
DESCRIPTION:Join us in cutting the ribbon at the new Fifth Third Bank in Winter Springs!
X-ALT-DESC;FMTTYPE=text/html:Join us in cutting the ribbon at the new Fifth Third Bank in Winter Springs!
LOCATION:1181 E State Rd. 434\, Winter Springs FL
UID:e.1204.43209
SEQUENCE:3
DTSTAMP:20260421T124330Z
URL:https://business.owsrcc.org/events/details/ribbon-cutting-fifth-third-bank-43209
END:VEVENT

END:VCALENDAR
