BEGIN:VCALENDAR
VERSION:2.0
PRODID:-//ChamberMaster//Event Calendar 2.0//EN
METHOD:PUBLISH
X-PUBLISHED-TTL:P3D
REFRESH-INTERVAL:P3D
CALSCALE:GREGORIAN
BEGIN:VEVENT
DTSTART:20240326T213000Z
DTEND:20240326T230000Z
X-MICROSOFT-CDO-ALLDAYEVENT:FALSE
SUMMARY:Ribbon Cutting - Dwell Oviedo
DESCRIPTION:Join us for a celebratory ribbon-cutting at the new Dwell Oviedo!  A new\, upscale luxury apartment complex has arrived!
X-ALT-DESC;FMTTYPE=text/html:Join us for a celebratory ribbon-cutting at the new Dwell Oviedo!&nbsp\; A new\, upscale luxury apartment complex has arrived!
LOCATION:500 Sugar Mill Rd.\, Oviedo (off of Broadway)
UID:e.1204.44071
SEQUENCE:3
DTSTAMP:20260421T095426Z
URL:https://business.owsrcc.org/events/details/ribbon-cutting-dwell-oviedo-44071
END:VEVENT

END:VCALENDAR
