BEGIN:VCALENDAR
VERSION:2.0
PRODID:-//ChamberMaster//Event Calendar 2.0//EN
METHOD:PUBLISH
X-PUBLISHED-TTL:P3D
REFRESH-INTERVAL:P3D
CALSCALE:GREGORIAN
BEGIN:VEVENT
DTSTART:20240430T213000Z
DTEND:20240430T230000Z
X-MICROSOFT-CDO-ALLDAYEVENT:FALSE
SUMMARY:Ribbon Cutting - Crave Cookies
DESCRIPTION:Join us for a celebratory ribbon cutting at the new Crave Cookies in Oviedo!
X-ALT-DESC;FMTTYPE=text/html:Join us for a celebratory ribbon cutting at the new Crave Cookies in Oviedo!
LOCATION:1121 Alafaya Trail\, Ste. 1017 Oviedo (In the Sprouts Plaza)
UID:e.1204.44075
SEQUENCE:3
DTSTAMP:20260421T081525Z
URL:https://business.owsrcc.org/events/details/ribbon-cutting-crave-cookies-44075
END:VEVENT

END:VCALENDAR
