BEGIN:VCALENDAR
VERSION:2.0
PRODID:-//ChamberMaster//Event Calendar 2.0//EN
METHOD:PUBLISH
X-PUBLISHED-TTL:P3D
REFRESH-INTERVAL:P3D
CALSCALE:GREGORIAN
BEGIN:VEVENT
DTSTART:20250220T163000Z
DTEND:20250220T183000Z
X-MICROSOFT-CDO-ALLDAYEVENT:FALSE
SUMMARY:Quarterly Luncheon - Economic Update
DESCRIPTION:Join us for our Economic Update - Quarterly Luncheon with Guest Speaker Steve Vittorel\, Co-Founder of First Down Financial Inc.
X-ALT-DESC;FMTTYPE=text/html:<span style="font-size:14px\;">Join us for our Economic Update - Quarterly Luncheon with Guest Speaker Steve Vittorel\, Co-Founder of First Down Financial Inc.</span>
LOCATION:Oviedo City Church 300 W. State Rd. 434\, Oviedo
UID:e.1204.45110
SEQUENCE:3
DTSTAMP:20260421T043955Z
URL:https://business.owsrcc.org/events/details/quarterly-luncheon-economic-update-45110
END:VEVENT

END:VCALENDAR
