BEGIN:VCALENDAR
VERSION:2.0
PRODID:-//ChamberMaster//Event Calendar 2.0//EN
METHOD:PUBLISH
X-PUBLISHED-TTL:P3D
REFRESH-INTERVAL:P3D
CALSCALE:GREGORIAN
BEGIN:VEVENT
DTSTART:20240808T153000Z
DTEND:20240808T173000Z
X-MICROSOFT-CDO-ALLDAYEVENT:FALSE
SUMMARY:Quarterly Luncheon
DESCRIPTION:Join us for our Quarterly Luncheon with featured speakers.\n\n\n\nAt our Chamber Quarterly Luncheons you'll have the opportunity to meet other business owners\, community leaders and top executives.
X-ALT-DESC;FMTTYPE=text/html:<span style="font-size:14px\;">Join us for our Quarterly Luncheon with featured speakers.<br />\n<br />\n<span style="font-family: arial\;">At our Chamber Quarterly Luncheons you&#39\;ll have the opportunity to meet other business owners\, community leaders and top executives.</span></span>
LOCATION:Oviedo City Church 300 West State Road\, Oviedo\, FL 32765
UID:e.1204.44574
SEQUENCE:3
DTSTAMP:20260421T005833Z
URL:https://business.owsrcc.org/events/details/quarterly-luncheon-44574
END:VEVENT

END:VCALENDAR
