BEGIN:VCALENDAR
VERSION:2.0
PRODID:-//ChamberMaster//Event Calendar 2.0//EN
METHOD:PUBLISH
X-PUBLISHED-TTL:P3D
REFRESH-INTERVAL:P3D
CALSCALE:GREGORIAN
BEGIN:VEVENT
DTSTART:20240208T163000Z
DTEND:20240208T180000Z
X-MICROSOFT-CDO-ALLDAYEVENT:FALSE
SUMMARY:Quarterly Luncheon
DESCRIPTION:Quarterly Member Luncheon featuring an Economic Update by Geoffrey Del Bene of Edwards Jones.\n\nJoin us for a lively update on the economy and issues facing our business community.
X-ALT-DESC;FMTTYPE=text/html:Quarterly Member Luncheon featuring an Economic Update by Geoffrey Del Bene of Edwards Jones.<br />\nJoin us for a lively update on the economy and issues facing our business community.
LOCATION:Oviedo City Church 300 W SR 434\, Oviedo\, FL 32765
UID:e.1204.42861
SEQUENCE:3
DTSTAMP:20260421T110639Z
URL:https://business.owsrcc.org/events/details/quarterly-luncheon-42861
END:VEVENT

END:VCALENDAR
