BEGIN:VCALENDAR
VERSION:2.0
PRODID:-//ChamberMaster//Event Calendar 2.0//EN
METHOD:PUBLISH
X-PUBLISHED-TTL:P3D
REFRESH-INTERVAL:P3D
CALSCALE:GREGORIAN
BEGIN:VEVENT
DTSTART:20231025T153000Z
DTEND:20231025T173000Z
X-MICROSOFT-CDO-ALLDAYEVENT:FALSE
SUMMARY:Quarterly Luncheon
DESCRIPTION:Join us for our last Quarterly Luncheon of 2023. Our speaker\, Katy Cook\, will be discussing BizLink Orange and the National Entrepreneur Center. She'll touch on how they can help small businesses and the different programs they have available. \n\n\n\nAt our Chamber Quarterly Luncheons you'll have the opportunity to meet other business owners\, community leaders and top executives while being informed about different topics affecting our area. Luncheons typically have between 80-100 attendees and will feature prominent speakers who are experts in their particular fields.
X-ALT-DESC;FMTTYPE=text/html:<span style="font-size: 14px\;">Join us for our last Quarterly Luncheon of 2023. Our speaker\, Katy Cook\, will be discussing BizLink Orange and the National Entrepreneur&nbsp\;Center. She&#39\;ll touch on how they can help small businesses and the different programs they have available.&nbsp\;</span><br />\n<br />\n<span style="font-family: arial\; font-size: 14px\;">At our Chamber Quarterly Luncheons you&#39\;ll have the opportunity to meet other business owners\, community leaders and top executives while being informed about different topics affecting our area. Luncheons typically have between 80-100 attendees and&nbsp\;will&nbsp\;feature prominent speakers who are experts in their particular fields.</span>
LOCATION:Oviedo City Church 300 W SR 434 Oviedo\, FL 32765
UID:e.1204.41503
SEQUENCE:3
DTSTAMP:20260422T000449Z
URL:https://business.owsrcc.org/events/details/quarterly-luncheon-10-25-2023-41503
END:VEVENT

END:VCALENDAR
