BEGIN:VCALENDAR
VERSION:2.0
PRODID:-//ChamberMaster//Event Calendar 2.0//EN
METHOD:PUBLISH
X-PUBLISHED-TTL:P3D
REFRESH-INTERVAL:P3D
CALSCALE:GREGORIAN
BEGIN:VEVENT
DTSTART:20240213T190000Z
DTEND:20240213T220000Z
X-MICROSOFT-CDO-ALLDAYEVENT:FALSE
SUMMARY:Puppy Love
DESCRIPTION:Join us at Arden Courts in Winter Springs for a Puppy Love Valentine's Day Event! Bring your furry friend and get your picture taken together! Event will be from 2-5 p.m. on Tuesday February 13th!
X-ALT-DESC;FMTTYPE=text/html:Join us at Arden Courts in Winter Springs for a Puppy Love Valentine&#39\;s Day Event! Bring your furry friend and get your picture taken together! Event will be from 2-5 p.m. on Tuesday February 13th!&nbsp\;
LOCATION:Arden Courts Winter Springs 1057 Willa Springs FL 32708
UID:e.1204.44064
SEQUENCE:3
DTSTAMP:20260421T110652Z
URL:https://business.owsrcc.org/events/details/puppy-love-44064
END:VEVENT

END:VCALENDAR
