BEGIN:VCALENDAR
VERSION:2.0
PRODID:-//ChamberMaster//Event Calendar 2.0//EN
METHOD:PUBLISH
X-PUBLISHED-TTL:P3D
REFRESH-INTERVAL:P3D
CALSCALE:GREGORIAN
BEGIN:VEVENT
DTSTART:20250225T223000Z
DTEND:20250226T000000Z
X-MICROSOFT-CDO-ALLDAYEVENT:FALSE
SUMMARY:POSTPONED! Ribbon Cutting - Galaxy Car Wash
DESCRIPTION:Event postponed - new date will be announced soon!
X-ALT-DESC;FMTTYPE=text/html:Event postponed - new date will be announced soon!
LOCATION:925 Lockwood Blvd.\, Oviedo near the corner 419
UID:e.1204.45124
SEQUENCE:3
DTSTAMP:20260421T044200Z
URL:https://business.owsrcc.org/events/details/postponed-ribbon-cutting-galaxy-car-wash-45124
END:VEVENT

END:VCALENDAR
