BEGIN:VCALENDAR
VERSION:2.0
PRODID:-//ChamberMaster//Event Calendar 2.0//EN
METHOD:PUBLISH
X-PUBLISHED-TTL:P3D
REFRESH-INTERVAL:P3D
CALSCALE:GREGORIAN
BEGIN:VEVENT
DTSTART:20230824T230000Z
DTEND:20230825T000000Z
X-MICROSOFT-CDO-ALLDAYEVENT:FALSE
SUMMARY:Planet Fitness WS-Meet & Greet Joey Logano
DESCRIPTION:Race Weekend Event - Meet NASCAR Champion Joey Logano from 7-8pm!\n\nAutographs\, Radio Station Giveaways from XL106.7 and chance to win a VIP Experience at Daytona!
X-ALT-DESC;FMTTYPE=text/html:Race Weekend Event - Meet NASCAR Champion Joey Logano from 7-8pm!<br />\nAutographs\, Radio Station Giveaways from XL106.7 and chance to win a VIP Experience at Daytona!
LOCATION:Planet Fitness\, Winter Springs location 300 E. State Rd. 434
UID:e.1204.42676
SEQUENCE:3
DTSTAMP:20260421T162823Z
URL:https://business.owsrcc.org/events/details/planet-fitness-ws-meet-greet-joey-logano-42676
END:VEVENT

END:VCALENDAR
